BEGIN:VCALENDAR
VERSION:2.0
PRODID:-//coreycoaching.co.uk - ECPv6.15.14//NONSGML v1.0//EN
CALSCALE:GREGORIAN
METHOD:PUBLISH
X-ORIGINAL-URL:https://staging.coreycoaching.co.uk
X-WR-CALDESC:Events for coreycoaching.co.uk
REFRESH-INTERVAL;VALUE=DURATION:PT1H
X-Robots-Tag:noindex
X-PUBLISHED-TTL:PT1H
BEGIN:VTIMEZONE
TZID:UTC
BEGIN:STANDARD
TZOFFSETFROM:+0000
TZOFFSETTO:+0000
TZNAME:UTC
DTSTART:20250101T000000
END:STANDARD
END:VTIMEZONE
BEGIN:VEVENT
DTSTART;TZID=UTC:20260903T164500
DTEND;TZID=UTC:20260903T174500
DTSTAMP:20260421T220652
CREATED:20230504T102101Z
LAST-MODIFIED:20240705T140003Z
UID:10004647-1788453900-1788457500@staging.coreycoaching.co.uk
SUMMARY:Football Development Centre (Thursday)
DESCRIPTION:Ages 6 to 9 \nOur Community Football Development Centres are for all players to come along\, make friends and enjoy some organised football sessions with our highly qualified coaches. We are in partnership with Basildon Town FC who we are helping to create a youth football section. These sessions run regular throughout the year. \n\nBOOK A SESSION TODAY!\n\n\n  \n\n\n\n\n \n\n \n\n \n\n \n\n \nPreferred session\n \nSat: 8:45am - 9:45amSat: 10:45am - 11:45amMon: 4:30pm - 5:30pmMon: 5:30pm - 6:30pmThur: 4:30pm - 5:30pmThur: 5:30pm - 6:30pm\n \nPlease read our Privacy Policy before submitting this form.\n \nI agree to the privacy policy\n \n\n ×\n\n\n\nCHAT WITH US ON WHATSAPP FOR MORE INFORMATION
URL:https://staging.coreycoaching.co.uk/event/football-development-centres-thursday/2026-09-03/
LOCATION:Eversley Leisure Centre\, Crest Avenue\, Basildon\, SS13 2EF\, United Kingdom
CATEGORIES:Football Development Centres
ATTACH;FMTTYPE=image/jpeg:https://staging.coreycoaching.co.uk/wp-content/uploads/2023/04/development_centre_event_feature.jpg
ORGANIZER;CN="Joe Corey":MAILTO:enquiries@coreycoaching.co.uk
END:VEVENT
BEGIN:VEVENT
DTSTART;TZID=UTC:20260905T084500
DTEND;TZID=UTC:20260905T094500
DTSTAMP:20260421T220652
CREATED:20230412T093402Z
LAST-MODIFIED:20240705T135146Z
UID:10000964-1788597900-1788601500@staging.coreycoaching.co.uk
SUMMARY:Football Development Centre (Saturday)
DESCRIPTION:Ages 4 to 11 \nOur Community Football Development Centres are for all players to come along\, make friends and enjoy some organised football sessions with our highly qualified coaches. We are in partnership with Basildon Town FC who we are helping to create a youth football section. These sessions run regular throughout the year. \n\nBOOK A SESSION TODAY!\n\n\n  \n\n\n\n\n \n\n \n\n \n\n \n\n \nPreferred session\n \nSat: 8:45am - 9:45amSat: 10:45am - 11:45amMon: 4:30pm - 5:30pmMon: 5:30pm - 6:30pmThur: 4:30pm - 5:30pmThur: 5:30pm - 6:30pm\n \nPlease read our Privacy Policy before submitting this form.\n \nI agree to the privacy policy\n \n\n ×\n\n\n\nCHAT WITH US ON WHATSAPP FOR MORE INFORMATION
URL:https://staging.coreycoaching.co.uk/event/football-development-centres-saturday/2026-09-05/
LOCATION:Eversley Leisure Centre\, Crest Avenue\, Basildon\, SS13 2EF\, United Kingdom
CATEGORIES:Football Development Centres
ATTACH;FMTTYPE=image/jpeg:https://staging.coreycoaching.co.uk/wp-content/uploads/2023/04/development_centre_event_feature.jpg
ORGANIZER;CN="Joe Corey":MAILTO:enquiries@coreycoaching.co.uk
END:VEVENT
BEGIN:VEVENT
DTSTART;TZID=UTC:20260907T174500
DTEND;TZID=UTC:20260907T184500
DTSTAMP:20260421T220652
CREATED:20230504T100632Z
LAST-MODIFIED:20240705T134432Z
UID:13005042-1788803100-1788806700@staging.coreycoaching.co.uk
SUMMARY:Football Development Centre (Monday)
DESCRIPTION:Ages 6 to 12 \nOur Community Football Development Centres are for all players to come along\, make friends and enjoy some organised football sessions with our highly qualified coaches. We are in partnership with Basildon Town FC who we are helping to create a youth football section. These sessions run regular throughout the year. \n\nBOOK A SESSION TODAY!\n\n\n  \n\n\n\n\n \n\n \n\n \n\n \n\n \nPreferred session\n \nSat: 8:45am - 9:45amSat: 10:45am - 11:45amMon: 4:30pm - 5:30pmMon: 5:30pm - 6:30pmThur: 4:30pm - 5:30pmThur: 5:30pm - 6:30pm\n \nPlease read our Privacy Policy before submitting this form.\n \nI agree to the privacy policy\n \n\n ×\n\n\n\nCHAT WITH US ON WHATSAPP FOR MORE INFORMATION
URL:https://staging.coreycoaching.co.uk/event/football-development-centres-monday/2026-09-07/
LOCATION:Eversley Leisure Centre\, Crest Avenue\, Basildon\, SS13 2EF\, United Kingdom
CATEGORIES:Football Development Centres
ATTACH;FMTTYPE=image/jpeg:https://staging.coreycoaching.co.uk/wp-content/uploads/2023/04/development_centre_event_feature.jpg
ORGANIZER;CN="Joe Corey":MAILTO:enquiries@coreycoaching.co.uk
END:VEVENT
BEGIN:VEVENT
DTSTART;TZID=UTC:20260910T164500
DTEND;TZID=UTC:20260910T174500
DTSTAMP:20260421T220652
CREATED:20230504T102101Z
LAST-MODIFIED:20240705T140003Z
UID:10004648-1789058700-1789062300@staging.coreycoaching.co.uk
SUMMARY:Football Development Centre (Thursday)
DESCRIPTION:Ages 6 to 9 \nOur Community Football Development Centres are for all players to come along\, make friends and enjoy some organised football sessions with our highly qualified coaches. We are in partnership with Basildon Town FC who we are helping to create a youth football section. These sessions run regular throughout the year. \n\nBOOK A SESSION TODAY!\n\n\n  \n\n\n\n\n \n\n \n\n \n\n \n\n \nPreferred session\n \nSat: 8:45am - 9:45amSat: 10:45am - 11:45amMon: 4:30pm - 5:30pmMon: 5:30pm - 6:30pmThur: 4:30pm - 5:30pmThur: 5:30pm - 6:30pm\n \nPlease read our Privacy Policy before submitting this form.\n \nI agree to the privacy policy\n \n\n ×\n\n\n\nCHAT WITH US ON WHATSAPP FOR MORE INFORMATION
URL:https://staging.coreycoaching.co.uk/event/football-development-centres-thursday/2026-09-10/
LOCATION:Eversley Leisure Centre\, Crest Avenue\, Basildon\, SS13 2EF\, United Kingdom
CATEGORIES:Football Development Centres
ATTACH;FMTTYPE=image/jpeg:https://staging.coreycoaching.co.uk/wp-content/uploads/2023/04/development_centre_event_feature.jpg
ORGANIZER;CN="Joe Corey":MAILTO:enquiries@coreycoaching.co.uk
END:VEVENT
BEGIN:VEVENT
DTSTART;TZID=UTC:20260912T084500
DTEND;TZID=UTC:20260912T094500
DTSTAMP:20260421T220652
CREATED:20230412T093402Z
LAST-MODIFIED:20240705T135146Z
UID:10000965-1789202700-1789206300@staging.coreycoaching.co.uk
SUMMARY:Football Development Centre (Saturday)
DESCRIPTION:Ages 4 to 11 \nOur Community Football Development Centres are for all players to come along\, make friends and enjoy some organised football sessions with our highly qualified coaches. We are in partnership with Basildon Town FC who we are helping to create a youth football section. These sessions run regular throughout the year. \n\nBOOK A SESSION TODAY!\n\n\n  \n\n\n\n\n \n\n \n\n \n\n \n\n \nPreferred session\n \nSat: 8:45am - 9:45amSat: 10:45am - 11:45amMon: 4:30pm - 5:30pmMon: 5:30pm - 6:30pmThur: 4:30pm - 5:30pmThur: 5:30pm - 6:30pm\n \nPlease read our Privacy Policy before submitting this form.\n \nI agree to the privacy policy\n \n\n ×\n\n\n\nCHAT WITH US ON WHATSAPP FOR MORE INFORMATION
URL:https://staging.coreycoaching.co.uk/event/football-development-centres-saturday/2026-09-12/
LOCATION:Eversley Leisure Centre\, Crest Avenue\, Basildon\, SS13 2EF\, United Kingdom
CATEGORIES:Football Development Centres
ATTACH;FMTTYPE=image/jpeg:https://staging.coreycoaching.co.uk/wp-content/uploads/2023/04/development_centre_event_feature.jpg
ORGANIZER;CN="Joe Corey":MAILTO:enquiries@coreycoaching.co.uk
END:VEVENT
BEGIN:VEVENT
DTSTART;TZID=UTC:20260914T174500
DTEND;TZID=UTC:20260914T184500
DTSTAMP:20260421T220652
CREATED:20230504T100632Z
LAST-MODIFIED:20240705T134432Z
UID:13005043-1789407900-1789411500@staging.coreycoaching.co.uk
SUMMARY:Football Development Centre (Monday)
DESCRIPTION:Ages 6 to 12 \nOur Community Football Development Centres are for all players to come along\, make friends and enjoy some organised football sessions with our highly qualified coaches. We are in partnership with Basildon Town FC who we are helping to create a youth football section. These sessions run regular throughout the year. \n\nBOOK A SESSION TODAY!\n\n\n  \n\n\n\n\n \n\n \n\n \n\n \n\n \nPreferred session\n \nSat: 8:45am - 9:45amSat: 10:45am - 11:45amMon: 4:30pm - 5:30pmMon: 5:30pm - 6:30pmThur: 4:30pm - 5:30pmThur: 5:30pm - 6:30pm\n \nPlease read our Privacy Policy before submitting this form.\n \nI agree to the privacy policy\n \n\n ×\n\n\n\nCHAT WITH US ON WHATSAPP FOR MORE INFORMATION
URL:https://staging.coreycoaching.co.uk/event/football-development-centres-monday/2026-09-14/
LOCATION:Eversley Leisure Centre\, Crest Avenue\, Basildon\, SS13 2EF\, United Kingdom
CATEGORIES:Football Development Centres
ATTACH;FMTTYPE=image/jpeg:https://staging.coreycoaching.co.uk/wp-content/uploads/2023/04/development_centre_event_feature.jpg
ORGANIZER;CN="Joe Corey":MAILTO:enquiries@coreycoaching.co.uk
END:VEVENT
BEGIN:VEVENT
DTSTART;TZID=UTC:20260917T164500
DTEND;TZID=UTC:20260917T174500
DTSTAMP:20260421T220652
CREATED:20230504T102101Z
LAST-MODIFIED:20240705T140003Z
UID:10004649-1789663500-1789667100@staging.coreycoaching.co.uk
SUMMARY:Football Development Centre (Thursday)
DESCRIPTION:Ages 6 to 9 \nOur Community Football Development Centres are for all players to come along\, make friends and enjoy some organised football sessions with our highly qualified coaches. We are in partnership with Basildon Town FC who we are helping to create a youth football section. These sessions run regular throughout the year. \n\nBOOK A SESSION TODAY!\n\n\n  \n\n\n\n\n \n\n \n\n \n\n \n\n \nPreferred session\n \nSat: 8:45am - 9:45amSat: 10:45am - 11:45amMon: 4:30pm - 5:30pmMon: 5:30pm - 6:30pmThur: 4:30pm - 5:30pmThur: 5:30pm - 6:30pm\n \nPlease read our Privacy Policy before submitting this form.\n \nI agree to the privacy policy\n \n\n ×\n\n\n\nCHAT WITH US ON WHATSAPP FOR MORE INFORMATION
URL:https://staging.coreycoaching.co.uk/event/football-development-centres-thursday/2026-09-17/
LOCATION:Eversley Leisure Centre\, Crest Avenue\, Basildon\, SS13 2EF\, United Kingdom
CATEGORIES:Football Development Centres
ATTACH;FMTTYPE=image/jpeg:https://staging.coreycoaching.co.uk/wp-content/uploads/2023/04/development_centre_event_feature.jpg
ORGANIZER;CN="Joe Corey":MAILTO:enquiries@coreycoaching.co.uk
END:VEVENT
BEGIN:VEVENT
DTSTART;TZID=UTC:20260919T084500
DTEND;TZID=UTC:20260919T094500
DTSTAMP:20260421T220652
CREATED:20230412T093402Z
LAST-MODIFIED:20240705T135146Z
UID:10000966-1789807500-1789811100@staging.coreycoaching.co.uk
SUMMARY:Football Development Centre (Saturday)
DESCRIPTION:Ages 4 to 11 \nOur Community Football Development Centres are for all players to come along\, make friends and enjoy some organised football sessions with our highly qualified coaches. We are in partnership with Basildon Town FC who we are helping to create a youth football section. These sessions run regular throughout the year. \n\nBOOK A SESSION TODAY!\n\n\n  \n\n\n\n\n \n\n \n\n \n\n \n\n \nPreferred session\n \nSat: 8:45am - 9:45amSat: 10:45am - 11:45amMon: 4:30pm - 5:30pmMon: 5:30pm - 6:30pmThur: 4:30pm - 5:30pmThur: 5:30pm - 6:30pm\n \nPlease read our Privacy Policy before submitting this form.\n \nI agree to the privacy policy\n \n\n ×\n\n\n\nCHAT WITH US ON WHATSAPP FOR MORE INFORMATION
URL:https://staging.coreycoaching.co.uk/event/football-development-centres-saturday/2026-09-19/
LOCATION:Eversley Leisure Centre\, Crest Avenue\, Basildon\, SS13 2EF\, United Kingdom
CATEGORIES:Football Development Centres
ATTACH;FMTTYPE=image/jpeg:https://staging.coreycoaching.co.uk/wp-content/uploads/2023/04/development_centre_event_feature.jpg
ORGANIZER;CN="Joe Corey":MAILTO:enquiries@coreycoaching.co.uk
END:VEVENT
BEGIN:VEVENT
DTSTART;TZID=UTC:20260921T174500
DTEND;TZID=UTC:20260921T184500
DTSTAMP:20260421T220652
CREATED:20230504T100632Z
LAST-MODIFIED:20240705T134432Z
UID:13005044-1790012700-1790016300@staging.coreycoaching.co.uk
SUMMARY:Football Development Centre (Monday)
DESCRIPTION:Ages 6 to 12 \nOur Community Football Development Centres are for all players to come along\, make friends and enjoy some organised football sessions with our highly qualified coaches. We are in partnership with Basildon Town FC who we are helping to create a youth football section. These sessions run regular throughout the year. \n\nBOOK A SESSION TODAY!\n\n\n  \n\n\n\n\n \n\n \n\n \n\n \n\n \nPreferred session\n \nSat: 8:45am - 9:45amSat: 10:45am - 11:45amMon: 4:30pm - 5:30pmMon: 5:30pm - 6:30pmThur: 4:30pm - 5:30pmThur: 5:30pm - 6:30pm\n \nPlease read our Privacy Policy before submitting this form.\n \nI agree to the privacy policy\n \n\n ×\n\n\n\nCHAT WITH US ON WHATSAPP FOR MORE INFORMATION
URL:https://staging.coreycoaching.co.uk/event/football-development-centres-monday/2026-09-21/
LOCATION:Eversley Leisure Centre\, Crest Avenue\, Basildon\, SS13 2EF\, United Kingdom
CATEGORIES:Football Development Centres
ATTACH;FMTTYPE=image/jpeg:https://staging.coreycoaching.co.uk/wp-content/uploads/2023/04/development_centre_event_feature.jpg
ORGANIZER;CN="Joe Corey":MAILTO:enquiries@coreycoaching.co.uk
END:VEVENT
BEGIN:VEVENT
DTSTART;TZID=UTC:20260924T164500
DTEND;TZID=UTC:20260924T174500
DTSTAMP:20260421T220652
CREATED:20230504T102101Z
LAST-MODIFIED:20240705T140003Z
UID:10004650-1790268300-1790271900@staging.coreycoaching.co.uk
SUMMARY:Football Development Centre (Thursday)
DESCRIPTION:Ages 6 to 9 \nOur Community Football Development Centres are for all players to come along\, make friends and enjoy some organised football sessions with our highly qualified coaches. We are in partnership with Basildon Town FC who we are helping to create a youth football section. These sessions run regular throughout the year. \n\nBOOK A SESSION TODAY!\n\n\n  \n\n\n\n\n \n\n \n\n \n\n \n\n \nPreferred session\n \nSat: 8:45am - 9:45amSat: 10:45am - 11:45amMon: 4:30pm - 5:30pmMon: 5:30pm - 6:30pmThur: 4:30pm - 5:30pmThur: 5:30pm - 6:30pm\n \nPlease read our Privacy Policy before submitting this form.\n \nI agree to the privacy policy\n \n\n ×\n\n\n\nCHAT WITH US ON WHATSAPP FOR MORE INFORMATION
URL:https://staging.coreycoaching.co.uk/event/football-development-centres-thursday/2026-09-24/
LOCATION:Eversley Leisure Centre\, Crest Avenue\, Basildon\, SS13 2EF\, United Kingdom
CATEGORIES:Football Development Centres
ATTACH;FMTTYPE=image/jpeg:https://staging.coreycoaching.co.uk/wp-content/uploads/2023/04/development_centre_event_feature.jpg
ORGANIZER;CN="Joe Corey":MAILTO:enquiries@coreycoaching.co.uk
END:VEVENT
BEGIN:VEVENT
DTSTART;TZID=UTC:20260926T084500
DTEND;TZID=UTC:20260926T094500
DTSTAMP:20260421T220652
CREATED:20230412T093402Z
LAST-MODIFIED:20240705T135146Z
UID:10000967-1790412300-1790415900@staging.coreycoaching.co.uk
SUMMARY:Football Development Centre (Saturday)
DESCRIPTION:Ages 4 to 11 \nOur Community Football Development Centres are for all players to come along\, make friends and enjoy some organised football sessions with our highly qualified coaches. We are in partnership with Basildon Town FC who we are helping to create a youth football section. These sessions run regular throughout the year. \n\nBOOK A SESSION TODAY!\n\n\n  \n\n\n\n\n \n\n \n\n \n\n \n\n \nPreferred session\n \nSat: 8:45am - 9:45amSat: 10:45am - 11:45amMon: 4:30pm - 5:30pmMon: 5:30pm - 6:30pmThur: 4:30pm - 5:30pmThur: 5:30pm - 6:30pm\n \nPlease read our Privacy Policy before submitting this form.\n \nI agree to the privacy policy\n \n\n ×\n\n\n\nCHAT WITH US ON WHATSAPP FOR MORE INFORMATION
URL:https://staging.coreycoaching.co.uk/event/football-development-centres-saturday/2026-09-26/
LOCATION:Eversley Leisure Centre\, Crest Avenue\, Basildon\, SS13 2EF\, United Kingdom
CATEGORIES:Football Development Centres
ATTACH;FMTTYPE=image/jpeg:https://staging.coreycoaching.co.uk/wp-content/uploads/2023/04/development_centre_event_feature.jpg
ORGANIZER;CN="Joe Corey":MAILTO:enquiries@coreycoaching.co.uk
END:VEVENT
BEGIN:VEVENT
DTSTART;TZID=UTC:20260928T174500
DTEND;TZID=UTC:20260928T184500
DTSTAMP:20260421T220652
CREATED:20230504T100632Z
LAST-MODIFIED:20240705T134432Z
UID:13005045-1790617500-1790621100@staging.coreycoaching.co.uk
SUMMARY:Football Development Centre (Monday)
DESCRIPTION:Ages 6 to 12 \nOur Community Football Development Centres are for all players to come along\, make friends and enjoy some organised football sessions with our highly qualified coaches. We are in partnership with Basildon Town FC who we are helping to create a youth football section. These sessions run regular throughout the year. \n\nBOOK A SESSION TODAY!\n\n\n  \n\n\n\n\n \n\n \n\n \n\n \n\n \nPreferred session\n \nSat: 8:45am - 9:45amSat: 10:45am - 11:45amMon: 4:30pm - 5:30pmMon: 5:30pm - 6:30pmThur: 4:30pm - 5:30pmThur: 5:30pm - 6:30pm\n \nPlease read our Privacy Policy before submitting this form.\n \nI agree to the privacy policy\n \n\n ×\n\n\n\nCHAT WITH US ON WHATSAPP FOR MORE INFORMATION
URL:https://staging.coreycoaching.co.uk/event/football-development-centres-monday/2026-09-28/
LOCATION:Eversley Leisure Centre\, Crest Avenue\, Basildon\, SS13 2EF\, United Kingdom
CATEGORIES:Football Development Centres
ATTACH;FMTTYPE=image/jpeg:https://staging.coreycoaching.co.uk/wp-content/uploads/2023/04/development_centre_event_feature.jpg
ORGANIZER;CN="Joe Corey":MAILTO:enquiries@coreycoaching.co.uk
END:VEVENT
END:VCALENDAR